BEGIN:VCALENDAR
VERSION:2.0
PRODID:-//Confindustria Sicilia - ECPv5.7.0//NONSGML v1.0//EN
CALSCALE:GREGORIAN
METHOD:PUBLISH
X-WR-CALNAME:Confindustria Sicilia
X-ORIGINAL-URL:https://www.confindustriasicilia.it
X-WR-CALDESC:Events for Confindustria Sicilia
BEGIN:VTIMEZONE
TZID:Europe/Rome
BEGIN:DAYLIGHT
TZOFFSETFROM:+0100
TZOFFSETTO:+0200
TZNAME:CEST
DTSTART:20240331T010000
END:DAYLIGHT
BEGIN:STANDARD
TZOFFSETFROM:+0200
TZOFFSETTO:+0100
TZNAME:CET
DTSTART:20241027T010000
END:STANDARD
END:VTIMEZONE
BEGIN:VEVENT
DTSTART;VALUE=DATE:20240408
DTEND;VALUE=DATE:20240409
DTSTAMP:20260421T065404
CREATED:20240314T112457Z
LAST-MODIFIED:20240322T113517Z
UID:11061-1712534400-1712620799@www.confindustriasicilia.it
SUMMARY:Roadshow Fabbrica Europa
DESCRIPTION:L’8 Aprile 2024 alle 14:30 si terrà il convegno Fabbrica Europa. \nIl futuro dell’Europa è legato al Rinascimento dell’industria europea. È una sfida globale che può essere vinta solo puntando su una rinnovata competitività della nostra industria. \nIl Parlamento europeo che sarà eletto nel prossimo giugno dovrà prendere decisioni vitali per l’Unione europea: la guerra in Ucraina e in Medio Oriente\, la crisi energetica e quella delle materie prime\, le iniziative dei nostri competitors globali ( in primis USA e Cina) richiedono all’Europa di prendere delle iniziative forti e senza precedenti\, e di farlo velocemente.\nConfindustria vuole continuare a fare la propria parte. Non vogliamo limitarci a denunciare i freni e le strozzature che ci rallentano\, ma indicare la strada da percorrere proponendo azioni concrete e principi che devono\, a nostro giudizio\, costituire la bussola alla quale guardare per prendere le future decisioni in Europa. \nPer la partecipazione è necessaria la registrazione al seguente link: https://forms.gle/iYqkDgmrByss5B4d8
URL:https://www.confindustriasicilia.it/appuntamento/roadshow-fabbrica-europa/
LOCATION:Confindustria Sicilia\, Via E. Amari\, 11\, Palermo\, 90139
END:VEVENT
END:VCALENDAR