BEGIN:VCALENDAR
VERSION:2.0
PRODID:-//Confindustria Sicilia - ECPv5.7.0//NONSGML v1.0//EN
CALSCALE:GREGORIAN
METHOD:PUBLISH
X-WR-CALNAME:Confindustria Sicilia
X-ORIGINAL-URL:https://www.confindustriasicilia.it
X-WR-CALDESC:Events for Confindustria Sicilia
BEGIN:VTIMEZONE
TZID:Europe/Rome
BEGIN:DAYLIGHT
TZOFFSETFROM:+0100
TZOFFSETTO:+0200
TZNAME:CEST
DTSTART:20230326T010000
END:DAYLIGHT
BEGIN:STANDARD
TZOFFSETFROM:+0200
TZOFFSETTO:+0100
TZNAME:CET
DTSTART:20231029T010000
END:STANDARD
END:VTIMEZONE
BEGIN:VEVENT
DTSTART;TZID=Europe/Rome:20231129T080000
DTEND;TZID=Europe/Rome:20231129T170000
DTSTAMP:20260423T170008
CREATED:20231129T110136Z
LAST-MODIFIED:20231129T140403Z
UID:10771-1701244800-1701277200@www.confindustriasicilia.it
SUMMARY:TRANSIZIONE DIGITALE E GAP DI COMPETENZE - 30 Novembre 2023
DESCRIPTION:OBR Sicilia organizza il Seminario “Transizione Digitale e Gap di Competenze” che si terrà Giovedì 30 Novembre alle ore 15.30  a Palermo presso la Camera di Commercio Palermo-Enna in Via Emerico Amari\, 11 – sala Belvedere \nAll’evento saranno presenti il Direttore Generale di Fondimpresa\, Dott. Elvio Mauri e il Dirigente Generale Dipartimento Regionale Formazione Professionale\, Dott. Maurizio Pirillo. \nAll’incontro parteciperanno numerose aziende provenienti da tutta la Sicilia e sarà una importante occasione di confronto. \n 
URL:https://www.confindustriasicilia.it/appuntamento/transizione-digitale-e-gap-di-competenze/
END:VEVENT
END:VCALENDAR